BEGIN:VCALENDAR
VERSION:2.0
PRODID:-//De Werfeling - ECPv6.15.16.1//NONSGML v1.0//EN
CALSCALE:GREGORIAN
METHOD:PUBLISH
X-WR-CALNAME:De Werfeling
X-ORIGINAL-URL:https://uniovision.nl
X-WR-CALDESC:Evenementen voor De Werfeling
REFRESH-INTERVAL;VALUE=DURATION:PT1H
X-Robots-Tag:noindex
X-PUBLISHED-TTL:PT1H
BEGIN:VTIMEZONE
TZID:Europe/Amsterdam
BEGIN:DAYLIGHT
TZOFFSETFROM:+0100
TZOFFSETTO:+0200
TZNAME:CEST
DTSTART:20240331T010000
END:DAYLIGHT
BEGIN:STANDARD
TZOFFSETFROM:+0200
TZOFFSETTO:+0100
TZNAME:CET
DTSTART:20241027T010000
END:STANDARD
BEGIN:DAYLIGHT
TZOFFSETFROM:+0100
TZOFFSETTO:+0200
TZNAME:CEST
DTSTART:20250330T010000
END:DAYLIGHT
BEGIN:STANDARD
TZOFFSETFROM:+0200
TZOFFSETTO:+0100
TZNAME:CET
DTSTART:20251026T010000
END:STANDARD
BEGIN:DAYLIGHT
TZOFFSETFROM:+0100
TZOFFSETTO:+0200
TZNAME:CEST
DTSTART:20260329T010000
END:DAYLIGHT
BEGIN:STANDARD
TZOFFSETFROM:+0200
TZOFFSETTO:+0100
TZNAME:CET
DTSTART:20261025T010000
END:STANDARD
END:VTIMEZONE
BEGIN:VEVENT
DTSTART;TZID=Europe/Amsterdam:20250608T093000
DTEND;TZID=Europe/Amsterdam:20250608T170000
DTSTAMP:20260422T190219
CREATED:20250318T114003Z
LAST-MODIFIED:20260101T193008Z
UID:10001756-1749375000-1749402000@uniovision.nl
SUMMARY:opleiding Magie op 8 juni
DESCRIPTION:Je boekt hier je reservering tot 1 dag voor aanvang \nvoor: Aardse Magie of Kosmische Magie\ndatum: 8 juni\ndoor: Céleste en Rien \nDe deur opent om 09:10\nDe lesdag start om 09.30 met een meditatie. \nLunch dien je zelf te verzorgen. \nDe regels voor annuleren van een eenmaal geboekte lesdag kun je hier lezen.\nMet de betaling ga je akkoord met onze algemene voorwaarden\, die je hier kunt lezen.
URL:https://uniovision.nl/event/opleiding-magie-juni-8/
LOCATION:De Werfeling\, Oudegracht aan de Werf 163\, Utrecht\, 3511ak\, Nederland
CATEGORIES:Aardse magie 2026,Kosmische magie 2026
ATTACH;FMTTYPE=image/png:https://uniovision.nl/wp-content/uploads/2024/01/aardse-magie-klein-7.png
ORGANIZER;CN="C%C3%A9leste Banning":MAILTO:celeste@uniovision.nl
END:VEVENT
BEGIN:VEVENT
DTSTART;TZID=Europe/Amsterdam:20250606T093000
DTEND;TZID=Europe/Amsterdam:20250606T170000
DTSTAMP:20260422T190219
CREATED:20250318T113836Z
LAST-MODIFIED:20260101T193037Z
UID:10001754-1749202200-1749229200@uniovision.nl
SUMMARY:opleiding Magie op 6 juni
DESCRIPTION:Je boekt hier je reservering tot 1 dag voor aanvang \nvoor: Aardse Magie of Kosmische Magie\ndatum: 6 juni\ndoor: Céleste en Rien \nDe deur opent om 09:10\nDe lesdag start om 09.30 met een meditatie. \nLunch dien je zelf te verzorgen. \nDe regels voor annuleren van een eenmaal geboekte lesdag kun je hier lezen.\nMet de betaling ga je akkoord met onze algemene voorwaarden\, die je hier kunt lezen.
URL:https://uniovision.nl/event/opleiding-magie-juni-6/
LOCATION:De Werfeling\, Oudegracht aan de Werf 163\, Utrecht\, 3511ak\, Nederland
CATEGORIES:Aardse magie 2026,Kosmische magie 2026
ATTACH;FMTTYPE=image/png:https://uniovision.nl/wp-content/uploads/2024/01/aardse-magie-klein-7.png
ORGANIZER;CN="C%C3%A9leste Banning":MAILTO:celeste@uniovision.nl
END:VEVENT
BEGIN:VEVENT
DTSTART;TZID=Europe/Amsterdam:20250605T093000
DTEND;TZID=Europe/Amsterdam:20250605T170000
DTSTAMP:20260422T190219
CREATED:20250318T113747Z
LAST-MODIFIED:20260101T193048Z
UID:10001753-1749115800-1749142800@uniovision.nl
SUMMARY:opleiding Magie op 5 juni
DESCRIPTION:Je boekt hier je reservering tot 1 dag voor aanvang \nvoor: Aardse Magie of Kosmische Magie\ndatum: 5 juni\ndoor: Céleste en Rien \nDe deur opent om 09:10\nDe lesdag start om 09.30 met een meditatie. \nLunch dien je zelf te verzorgen. \nDe regels voor annuleren van een eenmaal geboekte lesdag kun je hier lezen.\nMet de betaling ga je akkoord met onze algemene voorwaarden\, die je hier kunt lezen.
URL:https://uniovision.nl/event/opleiding-magie-juni-5/
LOCATION:De Werfeling\, Oudegracht aan de Werf 163\, Utrecht\, 3511ak\, Nederland
CATEGORIES:Aardse magie 2026,Kosmische magie 2026
ATTACH;FMTTYPE=image/png:https://uniovision.nl/wp-content/uploads/2024/01/aardse-magie-klein-7.png
ORGANIZER;CN="C%C3%A9leste Banning":MAILTO:celeste@uniovision.nl
END:VEVENT
BEGIN:VEVENT
DTSTART;TZID=Europe/Amsterdam:20250602T093000
DTEND;TZID=Europe/Amsterdam:20250602T170000
DTSTAMP:20260422T190219
CREATED:20250312T162506Z
LAST-MODIFIED:20260101T192414Z
UID:10001750-1748856600-1748883600@uniovision.nl
SUMMARY:opleiding Magie op 2 juni
DESCRIPTION:Je boekt hier je reservering tot 1 dag voor aanvang \nvoor: Aardse Magie of Kosmische Magie\ndatum: 2 juni\ndoor: Céleste en Rien \nDe deur opent om 09:10\nDe lesdag start om 09.30 met een meditatie. \nLunch dien je zelf te verzorgen. \nDe regels voor annuleren van een eenmaal geboekte lesdag kun je hier lezen.\nMet de betaling ga je akkoord met onze algemene voorwaarden\, die je hier kunt lezen.
URL:https://uniovision.nl/event/opleiding-magie-juni-2/
LOCATION:De Werfeling\, Oudegracht aan de Werf 163\, Utrecht\, 3511ak\, Nederland
CATEGORIES:Aardse magie 2026,Kosmische magie 2026
ATTACH;FMTTYPE=image/png:https://uniovision.nl/wp-content/uploads/2024/01/aardse-magie-klein-7.png
ORGANIZER;CN="C%C3%A9leste Banning":MAILTO:celeste@uniovision.nl
END:VEVENT
BEGIN:VEVENT
DTSTART;TZID=Europe/Amsterdam:20250531T093000
DTEND;TZID=Europe/Amsterdam:20250531T170000
DTSTAMP:20260422T190219
CREATED:20250312T154230Z
LAST-MODIFIED:20251229T194746Z
UID:10001749-1748683800-1748710800@uniovision.nl
SUMMARY:Opleiding Magie op 31 mei
DESCRIPTION:Je boekt hier je reservering tot 2 dagen voor aanvang \nvoor: Aardse Magie\ndatum: 31 mei\ndoor: Céleste \nDe deur opent om 09:10\nDe lesdag start om 09.30 met een meditatie. \nLunch dien je zelf te verzorgen. \nDe regels voor annuleren van een eenmaal geboekte lesdag kun je hier lezen.\nMet de betaling ga je akkoord met onze algemene voorwaarden\, die je hier kunt lezen.
URL:https://uniovision.nl/event/cursussen-magie-op-31-mei/
LOCATION:De Werfeling\, Oudegracht aan de Werf 163\, Utrecht\, 3511ak\, Nederland
CATEGORIES:Aardse magie 2026,Kosmische magie 2026
ATTACH;FMTTYPE=image/png:https://uniovision.nl/wp-content/uploads/2024/01/aardse-magie-klein-7.png
ORGANIZER;CN="C%C3%A9leste Banning":MAILTO:celeste@uniovision.nl
END:VEVENT
BEGIN:VEVENT
DTSTART;TZID=Europe/Amsterdam:20250529T093000
DTEND;TZID=Europe/Amsterdam:20250529T170000
DTSTAMP:20260422T190219
CREATED:20250312T153650Z
LAST-MODIFIED:20251229T195226Z
UID:10001748-1748511000-1748538000@uniovision.nl
SUMMARY:Opleiding Magie op 29 mei
DESCRIPTION:Je boekt hier je reservering tot 1 dag voor aanvang \nvoor: Aardse Magie\ndatum: 29 mei\ndoor: Céleste \nDe deur opent om 09:10\nDe lesdag start om 09.30 met een meditatie. \nLunch dien je zelf te verzorgen. \nDe regels voor annuleren van een eenmaal geboekte lesdag kun je hier lezen.\nMet de betaling ga je akkoord met onze algemene voorwaarden\, die je hier kunt lezen.
URL:https://uniovision.nl/event/opleiding-magie-op-29-mei/
LOCATION:De Werfeling\, Oudegracht aan de Werf 163\, Utrecht\, 3511ak\, Nederland
CATEGORIES:Aardse magie 2026,Kosmische magie 2026
ATTACH;FMTTYPE=image/png:https://uniovision.nl/wp-content/uploads/2024/01/aardse-magie-klein-7.png
ORGANIZER;CN="C%C3%A9leste Banning":MAILTO:celeste@uniovision.nl
END:VEVENT
BEGIN:VEVENT
DTSTART;TZID=Europe/Amsterdam:20250528T093000
DTEND;TZID=Europe/Amsterdam:20250528T170000
DTSTAMP:20260422T190219
CREATED:20250312T152636Z
LAST-MODIFIED:20260103T125545Z
UID:10001746-1748424600-1748451600@uniovision.nl
SUMMARY:Opleiding Magie op 28 mei
DESCRIPTION:Je boekt hier je reservering tot 1 dag voor aanvang \nvoor: Aardse Magie\ndatum: 28 mei\ndoor: Céleste  \nDe deur opent om 09:10\nDe lesdag start om 09.30 met een meditatie. \nLunch dien je zelf te verzorgen. \nDe regels voor annuleren van een eenmaal geboekte lesdag kun je hier lezen.\nMet de betaling ga je akkoord met onze algemene voorwaarden\, die je hier kunt lezen.
URL:https://uniovision.nl/event/opleiding-magie-28-mei/
LOCATION:De Werfeling\, Oudegracht aan de Werf 163\, Utrecht\, 3511ak\, Nederland
CATEGORIES:Aardse magie 2026,Kosmische magie 2026
ATTACH;FMTTYPE=image/png:https://uniovision.nl/wp-content/uploads/2024/01/aardse-magie-klein-7.png
ORGANIZER;CN="C%C3%A9leste Banning":MAILTO:celeste@uniovision.nl
END:VEVENT
BEGIN:VEVENT
DTSTART;TZID=Europe/Amsterdam:20250522T093000
DTEND;TZID=Europe/Amsterdam:20250522T170000
DTSTAMP:20260422T190219
CREATED:20250312T152259Z
LAST-MODIFIED:20260103T124921Z
UID:10001745-1747906200-1747933200@uniovision.nl
SUMMARY:Opleiding Magie op 22 mei
DESCRIPTION:Je boekt hier je reservering tot 1 dag voor aanvang \nvoor: Aardse Magie\ndatum: 22 mei\ndoor: Céleste  \nDe deur opent om 09:10\nDe lesdag start om 09.30 met een meditatie. \nLunch dien je zelf te verzorgen. \nDe regels voor annuleren van een eenmaal geboekte lesdag kun je hier lezen.\nMet de betaling ga je akkoord met onze algemene voorwaarden\, die je hier kunt lezen.
URL:https://uniovision.nl/event/opleiding-magie-22-mei/
LOCATION:De Werfeling\, Oudegracht aan de Werf 163\, Utrecht\, 3511ak\, Nederland
CATEGORIES:Aardse magie 2026,Kosmische magie 2026
ATTACH;FMTTYPE=image/png:https://uniovision.nl/wp-content/uploads/2024/01/aardse-magie-klein-7.png
ORGANIZER;CN="C%C3%A9leste Banning":MAILTO:celeste@uniovision.nl
END:VEVENT
BEGIN:VEVENT
DTSTART;TZID=Europe/Amsterdam:20250521T093000
DTEND;TZID=Europe/Amsterdam:20250521T170000
DTSTAMP:20260422T190219
CREATED:20241228T163746Z
LAST-MODIFIED:20260103T124827Z
UID:10001444-1747819800-1747846800@uniovision.nl
SUMMARY:Opleiding Magie op 21 mei
DESCRIPTION:Je boekt hier je reservering tot 2 dagen voor aanvang \nvoor: Aardse Magie of Kosmische Magie\ndatum: 21 mei\ndoor: Céleste en Rien \nDe deur opent om 09:10\nDe lesdag start om 09.30 met een meditatie. \nLunch dien je zelf te verzorgen. \nDe regels voor annuleren van een eenmaal geboekte lesdag kun je hier lezen.\nMet de betaling ga je akkoord met onze algemene voorwaarden\, die je hier kunt lezen.
URL:https://uniovision.nl/event/opleiding-magie-mei-21/
LOCATION:De Werfeling\, Oudegracht aan de Werf 163\, Utrecht\, 3511ak\, Nederland
CATEGORIES:Aardse magie 2026,Kosmische magie 2026
ATTACH;FMTTYPE=image/png:https://uniovision.nl/wp-content/uploads/2023/03/aardse-magie-klein.png
ORGANIZER;CN="C%C3%A9leste Banning":MAILTO:celeste@uniovision.nl
END:VEVENT
BEGIN:VEVENT
DTSTART;TZID=Europe/Amsterdam:20250519T093000
DTEND;TZID=Europe/Amsterdam:20250519T170000
DTSTAMP:20260422T190219
CREATED:20241228T163521Z
LAST-MODIFIED:20260103T124426Z
UID:10001442-1747647000-1747674000@uniovision.nl
SUMMARY:Opleiding Magie op 19 mei
DESCRIPTION:Je boekt hier je reservering tot 1 dag voor aanvang \nvoor: Aardse Magie of Kosmische Magie\ndatum: 19 mei\ndoor: Céleste en Rien \nDe deur opent om 09:10\nDe lesdag start om 09.30 met een meditatie. \nLunch dien je zelf te verzorgen. \nDe regels voor annuleren van een eenmaal geboekte lesdag kun je hier lezen.\nMet de betaling ga je akkoord met onze algemene voorwaarden\, die je hier kunt lezen.
URL:https://uniovision.nl/event/opleiding-magie-mei-12/
LOCATION:De Werfeling\, Oudegracht aan de Werf 163\, Utrecht\, 3511ak\, Nederland
CATEGORIES:Aardse magie 2026,Kosmische magie 2026
ATTACH;FMTTYPE=image/png:https://uniovision.nl/wp-content/uploads/2023/03/aardse-magie-klein.png
ORGANIZER;CN="C%C3%A9leste Banning":MAILTO:celeste@uniovision.nl
END:VEVENT
BEGIN:VEVENT
DTSTART;TZID=Europe/Amsterdam:20250518T093000
DTEND;TZID=Europe/Amsterdam:20250518T170000
DTSTAMP:20260422T190219
CREATED:20241228T163328Z
LAST-MODIFIED:20260103T124356Z
UID:10001441-1747560600-1747587600@uniovision.nl
SUMMARY:Opleiding Magie op 18 mei
DESCRIPTION:Je boekt hier je reservering tot 1 dag voor aanvang \nvoor: Aardse Magie of Kosmische Magie\ndatum: 18 mei\ndoor: Rien en Céleste \nDe deur opent om 09:10\nDe lesdag start om 09.30 met een meditatie. \nLunch dien je zelf te verzorgen. \nDe regels voor annuleren van een eenmaal geboekte lesdag kun je hier lezen.\nMet de betaling ga je akkoord met onze algemene voorwaarden\, die je hier kunt lezen.
URL:https://uniovision.nl/event/opleiding-magie-mei-18/
LOCATION:De Werfeling\, Oudegracht aan de Werf 163\, Utrecht\, 3511ak\, Nederland
CATEGORIES:Aardse magie 2026,Kosmische magie 2026
ATTACH;FMTTYPE=image/png:https://uniovision.nl/wp-content/uploads/2023/03/aardse-magie-klein.png
ORGANIZER;CN="Rien Hagenaars":MAILTO:rien@uniovision.nl
END:VEVENT
BEGIN:VEVENT
DTSTART;TZID=Europe/Amsterdam:20250505T093000
DTEND;TZID=Europe/Amsterdam:20250505T170000
DTSTAMP:20260422T190219
CREATED:20241228T144418Z
LAST-MODIFIED:20260103T125951Z
UID:10001428-1746437400-1746464400@uniovision.nl
SUMMARY:Opleiding Magie op 5 mei
DESCRIPTION:Je boekt hier je reservering tot 1 dag voor aanvang \nvoor: Aardse Magie of Kosmische Magie\ndatum: 5 mei\ndoor: Rien en Céleste \nDe deur opent om 09:10\nDe lesdag start om 09.30 met een meditatie. \nLunch dien je zelf te verzorgen. \nDe regels voor annuleren van een eenmaal geboekte lesdag kun je hier lezen.\nMet de betaling ga je akkoord met onze algemene voorwaarden\, die je hier kunt lezen.
URL:https://uniovision.nl/event/opleiding-magie-mei-5/
LOCATION:De Werfeling\, Oudegracht aan de Werf 163\, Utrecht\, 3511ak\, Nederland
CATEGORIES:Aardse magie 2026,Kosmische magie 2026
ATTACH;FMTTYPE=image/png:https://uniovision.nl/wp-content/uploads/2023/03/aardse-magie-klein.png
ORGANIZER;CN="Rien Hagenaars":MAILTO:rien@uniovision.nl
END:VEVENT
BEGIN:VEVENT
DTSTART;TZID=Europe/Amsterdam:20250427T093000
DTEND;TZID=Europe/Amsterdam:20250427T170000
DTSTAMP:20260422T190219
CREATED:20250222T143227Z
LAST-MODIFIED:20260103T125412Z
UID:10001728-1745746200-1745773200@uniovision.nl
SUMMARY:Opleiding Magie op 27 april
DESCRIPTION:Je boekt hier je reservering tot 1 dag voor aanvang \nvoor: Aardse Magie\ndatum: 27 april\ndoor: Céleste \nDe deur opent om 09:10\nDe lesdag start om 09.30 met een meditatie. \nLunch dien je zelf te verzorgen. \nDe regels voor annuleren van een eenmaal geboekte lesdag kun je hier lezen.\nMet de betaling ga je akkoord met onze algemene voorwaarden\, die je hier kunt lezen.
URL:https://uniovision.nl/event/opleiding-magie-27-april/
LOCATION:De Werfeling\, Oudegracht aan de Werf 163\, Utrecht\, 3511ak\, Nederland
CATEGORIES:Aardse magie 2026
ATTACH;FMTTYPE=image/png:https://uniovision.nl/wp-content/uploads/2024/01/aardse-magie-klein-7.png
ORGANIZER;CN="C%C3%A9leste Banning":MAILTO:celeste@uniovision.nl
END:VEVENT
BEGIN:VEVENT
DTSTART;TZID=Europe/Amsterdam:20250421T093000
DTEND;TZID=Europe/Amsterdam:20250421T170000
DTSTAMP:20260422T190219
CREATED:20241209T142442Z
LAST-MODIFIED:20260103T131425Z
UID:10001407-1745227800-1745254800@uniovision.nl
SUMMARY:Opleiding Magie op 21 april
DESCRIPTION:Je boekt hier je reservering tot 1 dag voor aanvang \nvoor: Aardse Magie of Kosmische Magie\ndatum: 21 april\ndoor: Céleste en Rien \nDe deur opent om 09:10\nDe lesdag start om 09.30 met een meditatie. \nLunch dien je zelf te verzorgen. \nDe regels voor annuleren van een eenmaal geboekte lesdag kun je hier lezen.\nMet de betaling ga je akkoord met onze algemene voorwaarden\, die je hier kunt lezen.
URL:https://uniovision.nl/event/opleiding-magie-april-21-2/
LOCATION:De Werfeling\, Oudegracht aan de Werf 163\, Utrecht\, 3511ak\, Nederland
CATEGORIES:Aardse magie 2026,Kosmische magie 2026
ATTACH;FMTTYPE=image/png:https://uniovision.nl/wp-content/uploads/2024/11/aardse-magie-540-495.png
ORGANIZER;CN="C%C3%A9leste Banning":MAILTO:celeste@uniovision.nl
END:VEVENT
BEGIN:VEVENT
DTSTART;TZID=Europe/Amsterdam:20250417T080000
DTEND;TZID=Europe/Amsterdam:20250417T170000
DTSTAMP:20260422T190219
CREATED:20241209T142309Z
LAST-MODIFIED:20260103T131400Z
UID:10001406-1744876800-1744909200@uniovision.nl
SUMMARY:Opleiding Magie op 17 april
DESCRIPTION:Je boekt hier je reservering tot 1 dag voor aanvang \nvoor: Aardse Magie of Kosmische Magie\ndatum: 17 april\ndoor: Rien en Céleste \nDe deur opent om 09:10\nDe lesdag start om 09.30 met een meditatie. \nLunch dien je zelf te verzorgen. \nDe regels voor annuleren van een eenmaal geboekte lesdag kun je hier lezen.\nMet de betaling ga je akkoord met onze algemene voorwaarden\, die je hier kunt lezen.
URL:https://uniovision.nl/event/aardse-magie-april-17/
LOCATION:De Werfeling\, Oudegracht aan de Werf 163\, Utrecht\, 3511ak\, Nederland
CATEGORIES:Aardse magie 2026,Kosmische magie 2026
ATTACH;FMTTYPE=image/png:https://uniovision.nl/wp-content/uploads/2024/11/aardse-magie-540-495.png
ORGANIZER;CN="Rien Hagenaars":MAILTO:rien@uniovision.nl
END:VEVENT
BEGIN:VEVENT
DTSTART;TZID=Europe/Amsterdam:20250416T080000
DTEND;TZID=Europe/Amsterdam:20250416T170000
DTSTAMP:20260422T190219
CREATED:20241209T142132Z
LAST-MODIFIED:20260103T131335Z
UID:10001405-1744790400-1744822800@uniovision.nl
SUMMARY:Opleiding Magie op 16 april
DESCRIPTION:Je boekt hier je reservering tot 1 dag voor aanvang \nvoor: Aardse Magie of Kosmische magie\ndatum: 16 april\ndoor: Céleste en Rien \nDe deur opent om 09:10\nDe lesdag start om 09.30 met een meditatie. \nLunch dien je zelf te verzorgen. \nDe regels voor annuleren van een eenmaal geboekte lesdag kun je hier lezen.\nMet de betaling ga je akkoord met onze algemene voorwaarden\, die je hier kunt lezen.
URL:https://uniovision.nl/event/aardse-magie-april-16/
LOCATION:De Werfeling\, Oudegracht aan de Werf 163\, Utrecht\, 3511ak\, Nederland
CATEGORIES:Aardse magie 2026,Kosmische magie 2026
ATTACH;FMTTYPE=image/png:https://uniovision.nl/wp-content/uploads/2024/11/aardse-magie-540-495.png
ORGANIZER;CN="C%C3%A9leste Banning":MAILTO:celeste@uniovision.nl
END:VEVENT
BEGIN:VEVENT
DTSTART;TZID=Europe/Amsterdam:20250414T080000
DTEND;TZID=Europe/Amsterdam:20250414T170000
DTSTAMP:20260422T190219
CREATED:20241209T141923Z
LAST-MODIFIED:20260103T131249Z
UID:10001404-1744617600-1744650000@uniovision.nl
SUMMARY:Opleiding Magie op 14 april
DESCRIPTION:Je boekt hier je reservering tot 1 dag voor aanvang \nvoor: Aardse Magie of Kosmische Magie\ndatum: 14 april\ndoor: Rien en Céleste \nDe deur opent om 09:10\nDe lesdag start om 09.30 met een meditatie. \nLunch dien je zelf te verzorgen. \nDe regels voor annuleren van een eenmaal geboekte lesdag kun je hier lezen.\nMet de betaling ga je akkoord met onze algemene voorwaarden\, die je hier kunt lezen.
URL:https://uniovision.nl/event/aardse-magie-april-14/
LOCATION:De Werfeling\, Oudegracht aan de Werf 163\, Utrecht\, 3511ak\, Nederland
CATEGORIES:Aardse magie 2026,Kosmische magie 2026
ATTACH;FMTTYPE=image/png:https://uniovision.nl/wp-content/uploads/2024/11/aardse-magie-540-495.png
ORGANIZER;CN="Rien Hagenaars":MAILTO:rien@uniovision.nl
END:VEVENT
BEGIN:VEVENT
DTSTART;TZID=Europe/Amsterdam:20250413T093000
DTEND;TZID=Europe/Amsterdam:20250413T170000
DTSTAMP:20260422T190219
CREATED:20241209T141742Z
LAST-MODIFIED:20260103T131227Z
UID:10001403-1744536600-1744563600@uniovision.nl
SUMMARY:Opleiding Magie op 13 april
DESCRIPTION:Je boekt hier je reservering tot 1 dag voor aanvang \nvoor: Aardse of Kosmische Magie\ndatum: 13 april\ndoor: Rien en Céleste \nDe deur opent om 09:10\nDe lesdag start om 09.30 met een meditatie. \nLunch dien je zelf te verzorgen. \nDe regels voor annuleren van een eenmaal geboekte lesdag kun je hier lezen.\nMet de betaling ga je akkoord met onze algemene voorwaarden\, die je hier kunt lezen.
URL:https://uniovision.nl/event/aardse-magie-april-13/
LOCATION:De Werfeling\, Oudegracht aan de Werf 163\, Utrecht\, 3511ak\, Nederland
CATEGORIES:Aardse magie 2026,Kosmische magie 2026
ATTACH;FMTTYPE=image/png:https://uniovision.nl/wp-content/uploads/2024/11/aardse-magie-540-495.png
ORGANIZER;CN="Rien Hagenaars":MAILTO:rien@uniovision.nl
END:VEVENT
BEGIN:VEVENT
DTSTART;TZID=Europe/Amsterdam:20250412T093000
DTEND;TZID=Europe/Amsterdam:20250412T170000
DTSTAMP:20260422T190219
CREATED:20241209T141618Z
LAST-MODIFIED:20260103T131204Z
UID:10001402-1744450200-1744477200@uniovision.nl
SUMMARY:Opleiding Magie op 12 april
DESCRIPTION:Je boekt hier je reservering tot 1 dag voor aanvang \nvoor: Aardse of Kosmische Magie\ndatum: 12 april\ndoor: Rien en Céleste \nDe deur opent om 09:10\nDe lesdag start om 09.30 met een meditatie. \nLunch dien je zelf te verzorgen. \nDe regels voor annuleren van een eenmaal geboekte lesdag kun je hier lezen.\nMet de betaling ga je akkoord met onze algemene voorwaarden\, die je hier kunt lezen.
URL:https://uniovision.nl/event/aardse-magie-april-12/
LOCATION:De Werfeling\, Oudegracht aan de Werf 163\, Utrecht\, 3511ak\, Nederland
CATEGORIES:Aardse magie 2026,Kosmische magie 2026
ATTACH;FMTTYPE=image/png:https://uniovision.nl/wp-content/uploads/2024/11/aardse-magie-540-495.png
ORGANIZER;CN="Rien Hagenaars":MAILTO:rien@uniovision.nl
END:VEVENT
BEGIN:VEVENT
DTSTART;TZID=Europe/Amsterdam:20250330T093000
DTEND;TZID=Europe/Amsterdam:20250330T170000
DTSTAMP:20260422T190219
CREATED:20250220T085726Z
LAST-MODIFIED:20260103T125736Z
UID:10001726-1743327000-1743354000@uniovision.nl
SUMMARY:Opleiding Magie op 30 maart
DESCRIPTION:Je boekt hier je reservering tot 1 dag voor aanvang \nvoor: Aardse of Kosmische Magie\ndatum: 30 maart\ndoor: Rien en Céleste \nDe deur opent om 09:10\nDe lesdag start om 09.30 met een meditatie. \nLunch dien je zelf te verzorgen. \nDe regels voor annuleren van een eenmaal geboekte lesdag kun je hier lezen.\nMet de betaling ga je akkoord met onze algemene voorwaarden\, die je hier kunt lezen.
URL:https://uniovision.nl/event/opleiding-magie-maart-30/
LOCATION:De Werfeling\, Oudegracht aan de Werf 163\, Utrecht\, 3511ak\, Nederland
CATEGORIES:Aardse magie 2026,Kosmische magie 2026
ATTACH;FMTTYPE=image/png:https://uniovision.nl/wp-content/uploads/2024/01/aardse-magie-klein-7.png
ORGANIZER;CN="Rien Hagenaars":MAILTO:rien@uniovision.nl
END:VEVENT
BEGIN:VEVENT
DTSTART;TZID=Europe/Amsterdam:20250323T093000
DTEND;TZID=Europe/Amsterdam:20250323T170000
DTSTAMP:20260422T190219
CREATED:20250220T085159Z
LAST-MODIFIED:20260103T125022Z
UID:10001723-1742722200-1742749200@uniovision.nl
SUMMARY:Opleiding Magie op 23 maart
DESCRIPTION:Je boekt hier je reservering tot 1 dag voor aanvang \nvoor: Aardse of Kosmische Magie\ndatum: 23 maart\ndoor: Rien en Céleste \nDe deur opent om 09:10\nDe lesdag start om 09.30 met een meditatie. \nLunch dien je zelf te verzorgen. \nDe regels voor annuleren van een eenmaal geboekte lesdag kun je hier lezen.\nMet de betaling ga je akkoord met onze algemene voorwaarden\, die je hier kunt lezen.
URL:https://uniovision.nl/event/opleiding-magie-maart-23/
LOCATION:De Werfeling\, Oudegracht aan de Werf 163\, Utrecht\, 3511ak\, Nederland
CATEGORIES:Aardse magie 2026,Kosmische magie 2026
ATTACH;FMTTYPE=image/png:https://uniovision.nl/wp-content/uploads/2024/01/aardse-magie-klein-7.png
ORGANIZER;CN="Rien Hagenaars":MAILTO:rien@uniovision.nl
END:VEVENT
BEGIN:VEVENT
DTSTART;TZID=Europe/Amsterdam:20250317T093000
DTEND;TZID=Europe/Amsterdam:20250317T170000
DTSTAMP:20260422T190220
CREATED:20241209T130913Z
LAST-MODIFIED:20260103T124320Z
UID:10001387-1742203800-1742230800@uniovision.nl
SUMMARY:Opleiding Magie op 17 maart
DESCRIPTION:Je boekt hier je reservering tot 1 dag voor aanvang \nvoor: Aardse of Kosmische Magie\ndatum: 17 maart\ndoor: Céleste en Rien \nDe deur opent om 09:10\nDe lesdag start om 09.30 met een meditatie. \nLunch dien je zelf te verzorgen. \nDe regels voor annuleren van een eenmaal geboekte lesdag kun je hier lezen.\nMet de betaling ga je akkoord met onze algemene voorwaarden\, die je hier kunt lezen.
URL:https://uniovision.nl/event/opleiding-magie-maart-17/
LOCATION:De Werfeling\, Oudegracht aan de Werf 163\, Utrecht\, 3511ak\, Nederland
CATEGORIES:Aardse magie 2026,Kosmische magie 2026
ATTACH;FMTTYPE=image/png:https://uniovision.nl/wp-content/uploads/2024/11/aardse-magie-540-495.png
ORGANIZER;CN="C%C3%A9leste Banning":MAILTO:celeste@uniovision.nl
END:VEVENT
BEGIN:VEVENT
DTSTART;TZID=Europe/Amsterdam:20250306T093000
DTEND;TZID=Europe/Amsterdam:20250306T170000
DTSTAMP:20260422T190220
CREATED:20241209T125950Z
LAST-MODIFIED:20260103T130022Z
UID:10001382-1741253400-1741280400@uniovision.nl
SUMMARY:Opleiding Magie op 6 maart
DESCRIPTION:Je boekt hier je reservering tot 1 dag voor aanvang \nvoor: Aardse Magie\ndatum: 6 maart\ndoor: Rien en Céleste \nDe deur opent om 09:10\nDe lesdag start om 09.30 met een meditatie. \nLunch dien je zelf te verzorgen. \nDe regels voor annuleren van een eenmaal geboekte lesdag kun je hier lezen.\nMet de betaling ga je akkoord met onze algemene voorwaarden\, die je hier kunt lezen.
URL:https://uniovision.nl/event/opleiding-magie-maart-6/
LOCATION:De Werfeling\, Oudegracht aan de Werf 163\, Utrecht\, 3511ak\, Nederland
CATEGORIES:Aardse magie 2026,Kosmische magie 2026
ATTACH;FMTTYPE=image/png:https://uniovision.nl/wp-content/uploads/2024/11/aardse-magie-540-495.png
ORGANIZER;CN="Rien Hagenaars":MAILTO:rien@uniovision.nl
END:VEVENT
BEGIN:VEVENT
DTSTART;TZID=Europe/Amsterdam:20250302T093000
DTEND;TZID=Europe/Amsterdam:20250302T170000
DTSTAMP:20260422T190220
CREATED:20250220T083607Z
LAST-MODIFIED:20260103T124606Z
UID:10001721-1740907800-1740934800@uniovision.nl
SUMMARY:Opleiding Magie op 2 maart
DESCRIPTION:Je boekt hier je reservering tot 2 dagen voor aanvang \nvoor: Aardse Magie\ndatum: 2 maart\ndoor: Rien \nDe deur opent om 09:10\nDe lesdag start om 09.30 met een meditatie. \nLunch dien je zelf te verzorgen. \nDe regels voor annuleren van een eenmaal geboekte lesdag kun je hier lezen.\nMet de betaling ga je akkoord met onze algemene voorwaarden\, die je hier kunt lezen.
URL:https://uniovision.nl/event/opleiding-magie-maart-2/
LOCATION:De Werfeling\, Oudegracht aan de Werf 163\, Utrecht\, 3511ak\, Nederland
CATEGORIES:Aardse magie 2026,Kosmische magie 2026
ATTACH;FMTTYPE=image/png:https://uniovision.nl/wp-content/uploads/2024/01/aardse-magie-klein-7.png
ORGANIZER;CN="Rien Hagenaars":MAILTO:rien@uniovision.nl
END:VEVENT
END:VCALENDAR